BEGIN:VCALENDAR
PRODID:-//eluceo/ical//2.0/EN
VERSION:2.0
CALSCALE:GREGORIAN
BEGIN:VEVENT
UID:286de1d9e5cbc7ffa9fb61275d5bcf3b
DTSTAMP:20260423T142259Z
SUMMARY:10:30 AM Alternative Service with Rabbi Dov and Alina Kentof
DESCRIPTION:Jewish Federation & Foundation of Northeast Florida\nCommunity 
 Calendar\nhttps://jewishjacksonville.org/jewish-federation-of-jacksonville
 -calendar/1030-am-alternative-service-with-rabbi-dov-and-alina-kentof\n\nA
 lternative RH Service with Dov & Alina (Zoom Room)\n\nSaturday\, September
  19⋅10:30am – 12:00pm\n\n \n\nTo access Zoom please go to our calenda
 r located on our website at https://www.jaxjewishcenter.org/engage/full-c
 alendar/
DTSTART;TZID=America/New_York:20200919T103000
DTEND;TZID=America/New_York:20200919T120000
END:VEVENT
END:VCALENDAR
