BEGIN:VCALENDAR
PRODID:-//eluceo/ical//2.0/EN
VERSION:2.0
CALSCALE:GREGORIAN
BEGIN:VEVENT
UID:3b4aeea88bf9d59a7e6565b1083abf5e
DTSTAMP:20260421T063229Z
SUMMARY:6 PM - 100th Annual Interfaith Service of Gratitude at The Temple
DESCRIPTION:Jewish Federation & Foundation of Northeast Florida\nCommunity 
 Calendar\nhttps://jewishjacksonville.org/jewish-federation-of-jacksonville
 -calendar/100th-annual-interfaith-service-of-gratitude-at-the-temple\n\n10
 0th Annual Interfaith Service of Gratitude at The Temple\n\n 
DTSTART;TZID=America/New_York:20171116T000000
DTEND;TZID=America/New_York:20171116T005500
END:VEVENT
END:VCALENDAR
