BEGIN:VCALENDAR
PRODID:-//eluceo/ical//2.0/EN
VERSION:2.0
CALSCALE:GREGORIAN
BEGIN:VEVENT
UID:f6c5cfee75439e1132812cd77fc4890a
DTSTAMP:20260423T054909Z
SUMMARY:10:00AM River Garden Foundation Gala Committee Meeting (RSVP)
DESCRIPTION:Jewish Federation & Foundation of Northeast Florida\nCommunity 
 Calendar\nhttps://jewishjacksonville.org/jewish-federation-of-jacksonville
 -calendar/1000am-river-garden-foundation-gala-committee-meeting\n\nPlease 
 RSVP to Christina Levine\n\n(904) 886-8430 or clevine@rivergarden.org\n\nT
 his meeting will be at a private home\; location will be provided upon RSV
 P.
DTSTART;TZID=America/New_York:20230822T100000
DTEND;TZID=America/New_York:20230822T120000
END:VEVENT
END:VCALENDAR
