BEGIN:VCALENDAR
PRODID:-//eluceo/ical//2.0/EN
VERSION:2.0
CALSCALE:GREGORIAN
BEGIN:VEVENT
UID:1c585b4f4b3dd4571475fcbe9962b2a2
DTSTAMP:20260426T014406Z
SUMMARY:10:00am Congregation Ahavath Chesed Parent and Me Playdates3
DESCRIPTION:Jewish Federation & Foundation of Northeast Florida\nCommunity 
 Calendar\nhttps://jewishjacksonville.org/jewish-federation-of-jacksonville
 -calendar/1000am-congregation-ahavath-chesed-parent-and-me-playdates3\n\nS
 UMMERTIME!\n\nParent-and-Me Playdates\n\nJoin us at the Temple for Music &
  Movement\, Story Time\, Crafts\, and More!\n\n10:00AM - 11:00AM\n\nFree a
 nd open to the community. \n\nActivities are geeared to ages 0-6 and thei
 r caregivers (older siblings welcome).\n\nSee you Sunday!\n\nFor more info
 rmation email youthengagement@thetemplejax.org
DTSTART;TZID=America/New_York:20220626T100000
DTEND;TZID=America/New_York:20220626T230000
END:VEVENT
END:VCALENDAR
