BEGIN:VCALENDAR
PRODID:-//eluceo/ical//2.0/EN
VERSION:2.0
CALSCALE:GREGORIAN
BEGIN:VEVENT
UID:7cf1733120387e2c55b61a721a4cb06a
DTSTAMP:20260422T161307Z
SUMMARY:10:00AM Beth El Bar Mitzvah
DESCRIPTION:Jewish Federation & Foundation of Northeast Florida\nCommunity 
 Calendar\nhttps://jewishjacksonville.org/jewish-federation-of-jacksonville
 -calendar/1000am-beth-el-bar-mitzvah\n\nNoah Bartfield Bar Mitzvah
DTSTART;TZID=America/New_York:20180811T100000
DTEND;TZID=America/New_York:20180811T120000
END:VEVENT
END:VCALENDAR
