BEGIN:VCALENDAR
PRODID:-//eluceo/ical//2.0/EN
VERSION:2.0
CALSCALE:GREGORIAN
BEGIN:VEVENT
UID:efef7caa50b9761d055047d3c0221bca
DTSTAMP:20260421T125833Z
SUMMARY:10:00 AM Temple Sisterhood Judi Greenhut Memorial Food/School Suppl
 y Drive
DESCRIPTION:Jewish Federation & Foundation of Northeast Florida\nCommunity 
 Calendar\nhttps://jewishjacksonville.org/jewish-federation-of-jacksonville
 -calendar/1000-am-temple-sisterhood-memorial-supply-drive\n\n
DTSTART;TZID=America/New_York:20200712T100000
DTEND;TZID=America/New_York:20200712T113000
END:VEVENT
END:VCALENDAR
