BEGIN:VCALENDAR
PRODID:-//eluceo/ical//2.0/EN
VERSION:2.0
CALSCALE:GREGORIAN
BEGIN:VEVENT
UID:20fc2ead12057ccd7da7d8a097437d4d
DTSTAMP:20260421T212210Z
SUMMARY:10:00 AM River Garden Program: A Journey Into The Fracture
DESCRIPTION:Jewish Federation & Foundation of Northeast Florida\nCommunity 
 Calendar\nhttps://jewishjacksonville.org/jewish-federation-of-jacksonville
 -calendar/1000-am-river-garden-program-a-journey-into-the-fracture\n\nRSVP
  BY Sep 2: Laura Platzer\, lplatzer@rivergarden.org or 904-886-8429\n\nNoa
  Hagiladi\, visiting Israeli artist\, invites you to hear her healing stor
 y.\n\nAs a multi-disciplinary artist coping with bipolar disorder\, Noa sh
 ares her 'personal fracture' and her dialog with it.  Hear her tell about
  a photographic bike journey along the Syrian African rift\, her art\, her
  romance with Glass\, and the path she walked from psychiatric hospitaliza
 tion to speaking in an international conference at the U...
DTSTART;TZID=America/New_York:20190911T100000
DTEND;TZID=America/New_York:20190911T113000
END:VEVENT
END:VCALENDAR
