BEGIN:VCALENDAR
PRODID:-//eluceo/ical//2.0/EN
VERSION:2.0
CALSCALE:GREGORIAN
BEGIN:VEVENT
UID:d49e9c0694a051646d35d065be30040e
DTSTAMP:20260421T064138Z
SUMMARY:10:00 AM River Garden Gala Committee Kick-off Meeting
DESCRIPTION:Jewish Federation & Foundation of Northeast Florida\nCommunity 
 Calendar\nhttps://jewishjacksonville.org/jewish-federation-of-jacksonville
 -calendar/1000-am-river-garden-gala-committee-kick-off-meeting\n\nTo be he
 ld at Epping Forest\n\nContact Christina Levine at the River Garden Founda
 tion if you have any questions.\n\n(904) 886-8430
DTSTART;TZID=America/New_York:20220302T100000
DTEND;TZID=America/New_York:20220302T120000
END:VEVENT
END:VCALENDAR
