BEGIN:VCALENDAR
PRODID:-//eluceo/ical//2.0/EN
VERSION:2.0
CALSCALE:GREGORIAN
BEGIN:VEVENT
UID:1a9cdefa55089bea32a6ec526b38a654
DTSTAMP:20260423T024614Z
SUMMARY:10:00 AM  River Garden Auxiliary Board Meeting
DESCRIPTION:Jewish Federation & Foundation of Northeast Florida\nCommunity 
 Calendar\nhttps://jewishjacksonville.org/jewish-federation-of-jacksonville
 -calendar/1000-am-river-garden-auxiliary-board-meeting\n\n2019-2020 Auxili
 ary President - Mimi Kaufman\n\nMembership:  Michele Steinfeld 904-636-75
 80
DTSTART;TZID=America/New_York:20190820T100000
DTEND;TZID=America/New_York:20190820T110000
END:VEVENT
END:VCALENDAR
