BEGIN:VCALENDAR
PRODID:-//eluceo/ical//2.0/EN
VERSION:2.0
CALSCALE:GREGORIAN
BEGIN:VEVENT
UID:0c8fac301fa1ab8cf4130fcb6c7b7831
DTSTAMP:20260422T180926Z
SUMMARY:10:00 AM Read Hebrew America Review Class Congregation Ahavath Ches
 ed
DESCRIPTION:Jewish Federation & Foundation of Northeast Florida\nCommunity 
 Calendar\nhttps://jewishjacksonville.org/jewish-federation-of-jacksonville
 -calendar/1000-am-read-hebrew-america-part-2-congregation-ahavath-chesed-2
 17360\n\nOne hour review of letters and vowels before Read Hebrew America 
 Part 2 begins on January 22. Part 2 focuses on building reading skills\,co
 mpetence and confidence. Shabbat liturgy is the text. 
DTSTART;TZID=America/New_York:20170108T100000
DTEND;TZID=America/New_York:20170108T110000
END:VEVENT
END:VCALENDAR
