BEGIN:VCALENDAR
PRODID:-//eluceo/ical//2.0/EN
VERSION:2.0
CALSCALE:GREGORIAN
BEGIN:VEVENT
UID:e12e70bf68d84148bd27de50316d46cb
DTSTAMP:20260425T233847Z
SUMMARY:10:00 AM - Medicare Education @ River Garden
DESCRIPTION:Jewish Federation & Foundation of Northeast Florida\nCommunity 
 Calendar\nhttps://jewishjacksonville.org/jewish-federation-of-jacksonville
 -calendar/1000-am-medicare-education-river-garden\n\nComplimentary\, Non-B
 iased Medicare Education with Eldersource\n\n\nSeptember 13 @ 10:00 am -
  11:30 am\n\n\n\n\nMEDICARE EDUCATION – Presented by Eldersource\nIn-Pe
 rson\, Masks Required | September 13 at 10:00 AM\nat River Garden Cohen Au
 ditorium\n11401 Old St. Augustine Road\, 32258\n\nQuestions? CALL (904) 28
 8-7855\nEMAIL kbell@rivergarden.org
DTSTART;TZID=America/New_York:20220913T100000
DTEND;TZID=America/New_York:20220913T113000
END:VEVENT
END:VCALENDAR
