BEGIN:VCALENDAR
PRODID:-//eluceo/ical//2.0/EN
VERSION:2.0
CALSCALE:GREGORIAN
BEGIN:VEVENT
UID:55ea34f2d77e383e898b5c178a941bb3
DTSTAMP:20260423T123227Z
SUMMARY:10:00 AM Etz Chaim Breakfast with Aaron Abel
DESCRIPTION:Jewish Federation & Foundation of Northeast Florida\nCommunity 
 Calendar\nhttps://jewishjacksonville.org/jewish-federation-of-jacksonville
 -calendar/1000-am-etz-chaim-breakfast-with-aaron-abel\n\nProgram featuring
  community member and current IDF Lone Soldier Aaron Abel.
DTSTART;TZID=America/New_York:20190331T100000
DTEND;TZID=America/New_York:20190331T130000
END:VEVENT
END:VCALENDAR
