BEGIN:VCALENDAR
PRODID:-//eluceo/ical//2.0/EN
VERSION:2.0
CALSCALE:GREGORIAN
BEGIN:VEVENT
UID:60da34076f8f9715bcd3bb2077640646
DTSTAMP:20260419T152747Z
SUMMARY:10:00 AM Congregation Ahavath Chesed Valentine's Day Community Brea
 kfast
DESCRIPTION:Jewish Federation & Foundation of Northeast Florida\nCommunity 
 Calendar\nhttps://jewishjacksonville.org/jewish-federation-of-jacksonville
 -calendar/1000-am-congregation-ahavath-chesed-valentines-day-community-bre
 akfast\n\nJoin us for a delicious breakfast with special guest speaker\, S
 haliach Stav Brener\n\nLearn how Israel celebrates Love & Valentine's Day\
 n\n$7 Advanced RSVP\, $10 at the Door\n\nFree to Active Military Duty\n\ng
 o to https://bit.ly/TempleVDayBreakfast\n\n50/50 Raffle ($5 for 3 tickets)
 \n\nProgram and Breakfast Indoors - Outdoor Seating Available\n\nBrought t
 o you by Temple Brotherhood\n\n 
DTSTART;TZID=America/New_York:20220213T100000
DTEND;TZID=America/New_York:20220213T233000
END:VEVENT
END:VCALENDAR
