BEGIN:VCALENDAR
PRODID:-//eluceo/ical//2.0/EN
VERSION:2.0
CALSCALE:GREGORIAN
BEGIN:VEVENT
UID:80a69edc2d1fc9d9b2eae9df45f0246c
DTSTAMP:20260422T091544Z
SUMMARY:10:00 - 4:00 AARP Tek Classes at River Garden
DESCRIPTION:Jewish Federation & Foundation of Northeast Florida\nCommunity 
 Calendar\nhttps://jewishjacksonville.org/jewish-federation-of-jacksonville
 -calendar/1000-400-aarp-tek-classes-at-river-garden\n\nWHEN:       
          Tuesday\, March 3\, 2020\n\nWHERE:            
    River Garden\, Cohen Auditorium\n\n                 
            11401 Old St. Augustine Road\, 32258\n\n \n\nMore an
 d more adults are using technology and AARP is here to help. Join a worksh
 op\, and learn how to get the most from your mobile devices and automobile
  gadgets. Register today – seating is limited!\n\n10 AM Intro to Android
  Smartphones for Beginners (Texting\, Pho...
DTSTART;TZID=America/New_York:20200303T100000
DTEND;TZID=America/New_York:20200303T160000
END:VEVENT
END:VCALENDAR
