BEGIN:VCALENDAR
PRODID:-//eluceo/ical//2.0/EN
VERSION:2.0
CALSCALE:GREGORIAN
BEGIN:VEVENT
UID:90391ad8c72a5e33571531f8b5c183e4
DTSTAMP:20260422T181407Z
SUMMARY:1:00 PM Jacksonville Jewish Center Caregiver Support Group - Teleco
 nference
DESCRIPTION:Jewish Federation & Foundation of Northeast Florida\nCommunity 
 Calendar\nhttps://jewishjacksonville.org/jewish-federation-of-jacksonville
 -calendar/100-pm-jacksonville-jewish-center-caregiver-support-group-teleco
 nference\n\nhttps://www.jaxjewishcenter.org/engage/full-calendar/\n\nCareg
 iver Support Group - Teleconference\n\n\nWhenLast Thursday of the month fr
 om 1pm – 2pm\n\nDescriptionSupport Group Transition to Conference Calls 
 Support Group Name - Jacksonville Jewish Center Support Group Support Grou
 p Day - Last Thurs of the Month Support Group Time - 1:00 PM Support Group
  Facilitator - Beth Shorstein Support Group Facilitator Email bethshorstei
 n@gmail.com Support Group Facilitator Phone - 904-868-4400 Unique...
DTSTART;TZID=America/New_York:20200730T130000
DTEND;TZID=America/New_York:20200730T140000
END:VEVENT
END:VCALENDAR
