BEGIN:VCALENDAR
PRODID:-//eluceo/ical//2.0/EN
VERSION:2.0
CALSCALE:GREGORIAN
BEGIN:VEVENT
UID:4d8bef2cfadcf0b23999feea68a6ee3a
DTSTAMP:20260423T193100Z
SUMMARY:9:00 AM - JJC Bar Mitzvah
DESCRIPTION:Jewish Federation & Foundation of Northeast Florida\nCommunity 
 Calendar\nhttps://jewishjacksonville.org/jewish-federation-of-jacksonville
 -calendar/10-jjc-bar-mitzvah\n\nJJC Bar Mitzvah
DTSTART;TZID=America/New_York:20170304T090000
DTEND;TZID=America/New_York:20170305T120000
END:VEVENT
END:VCALENDAR
