BEGIN:VCALENDAR
PRODID:-//eluceo/ical//2.0/EN
VERSION:2.0
CALSCALE:GREGORIAN
BEGIN:VEVENT
UID:8e0493f92b8446a38fd274a9e1a5bab3
DTSTAMP:20260421T095436Z
SUMMARY:10 AM YPF\, Art Festival
DESCRIPTION:Jewish Federation & Foundation of Northeast Florida\nCommunity 
 Calendar\nhttps://jewishjacksonville.org/jewish-federation-of-jacksonville
 -calendar/10-am-ypf-art-festival\n\nJoin J Institute Program Manager\, Hea
 ther Terrill\, to learn about Jacksonville's amazing collection of public 
 art. The tour will begin on the Southbank near MOSH\, travel across the Ma
 in Street Bridge and end in Downtown Jax. Registration available soon.
DTSTART;TZID=America/New_York:20210718T100000
DTEND;TZID=America/New_York:20210718T110000
END:VEVENT
END:VCALENDAR
