BEGIN:VCALENDAR
PRODID:-//eluceo/ical//2.0/EN
VERSION:2.0
CALSCALE:GREGORIAN
BEGIN:VEVENT
UID:de697e82f795b340b450d99ee280d1ca
DTSTAMP:20260426T030458Z
SUMMARY:10 AM Women's Philanthropy LEAD
DESCRIPTION:Jewish Federation & Foundation of Northeast Florida\nCommunity 
 Calendar\nhttps://jewishjacksonville.org/jewish-federation-of-jacksonville
 -calendar/10-am-womens-philanthropy-leadfeb\n\nStorytelling \n\n(tenitive
 ) 
DTSTART;TZID=America/New_York:20230223T100000
DTEND;TZID=America/New_York:20230223T120000
END:VEVENT
END:VCALENDAR
