BEGIN:VCALENDAR
PRODID:-//eluceo/ical//2.0/EN
VERSION:2.0
CALSCALE:GREGORIAN
BEGIN:VEVENT
UID:79c831055a53c3fb3e976fa2c5534ef3
DTSTAMP:20260424T185949Z
SUMMARY:10 AM JCA Festival Ms. Sneacher's Storytime (Facebook Live)
DESCRIPTION:Jewish Federation & Foundation of Northeast Florida\nCommunity 
 Calendar\nhttps://jewishjacksonville.org/jewish-federation-of-jacksonville
 -calendar/10-am-jca-festival-ms-sneachers-storytime\n\nChildren's event in
  partnership with JCA Theatre Department! The JCA's beloved Shelly Higgins
  Hughes reprises her famous Ms. Sneacher character with a reading of a fav
 orite children's classic.\n\nThis program is for ages up to 10 years and w
 ill be available via Facebook Live.
DTSTART;TZID=America/New_York:20201108T100000
DTEND;TZID=America/New_York:20201108T110000
END:VEVENT
END:VCALENDAR
