BEGIN:VCALENDAR
PRODID:-//eluceo/ical//2.0/EN
VERSION:2.0
CALSCALE:GREGORIAN
BEGIN:VEVENT
UID:5d17a9fc5fd05108c33772d69470b652
DTSTAMP:20260420T124444Z
SUMMARY:10 AM Federation Tuesdays Together
DESCRIPTION:Jewish Federation & Foundation of Northeast Florida\nCommunity 
 Calendar\nhttps://jewishjacksonville.org/jewish-federation-of-jacksonville
 -calendar/10-am-federation-tuesdays-together-january\n\nIf you or someone 
 you know is new or moving to Northeast Florida\, join the Jewish Federatio
 n & Foundation of Northeast Florida for Tuesdays Together: Community\, Con
 versation\, & Coffee.\n\nJanuary 4\, 2022 @ 10 AM\n\nLocation at First Wat
 ch Baymeadows: 9271 Baymeadows Rd Jacksonville\, 32256\n\nRSVP here: http
 s://events.idonate.com/welcomeoctober2021
DTSTART;TZID=America/New_York:20220104T100000
DTEND;TZID=America/New_York:20220104T110000
END:VEVENT
END:VCALENDAR
