BEGIN:VCALENDAR
PRODID:-//eluceo/ical//2.0/EN
VERSION:2.0
CALSCALE:GREGORIAN
BEGIN:VEVENT
UID:98d0972b9c609fcf02ec3b04f9f9b97e
DTSTAMP:20260422T211845Z
SUMMARY:1 PM P2G Caesarea Virtual Tour
DESCRIPTION:Jewish Federation & Foundation of Northeast Florida\nCommunity 
 Calendar\nhttps://jewishjacksonville.org/jewish-federation-of-jacksonville
 -calendar/1-pm-p2g-virtual\n\nJoin us for a tour of ancient Caesarea. Come
  explore the tensions between the Jews & Romans along with Caesarea's fasc
 inating archaeology. Register Here
DTSTART;TZID=America/New_York:20210523T130000
DTEND;TZID=America/New_York:20210523T140000
END:VEVENT
END:VCALENDAR
