BEGIN:VCALENDAR
PRODID:-//eluceo/ical//2.0/EN
VERSION:2.0
CALSCALE:GREGORIAN
BEGIN:VEVENT
UID:fbfa1eb0d24136907a9d9b3208018bb7
DTSTAMP:20260426T024313Z
SUMMARY:1 PM JFCS PJ Library/rGEN Community Havdallah
DESCRIPTION:Jewish Federation & Foundation of Northeast Florida\nCommunity 
 Calendar\nhttps://jewishjacksonville.org/jewish-federation-of-jacksonville
 -calendar/1-pm-jfcs-pj-libraryrgen-community-havdallah\n\nLocation to be d
 etermined
DTSTART;TZID=America/New_York:20200125T130000
DTEND;TZID=America/New_York:20200125T160000
END:VEVENT
END:VCALENDAR
