BEGIN:VCALENDAR
PRODID:-//eluceo/ical//2.0/EN
VERSION:2.0
CALSCALE:GREGORIAN
BEGIN:VEVENT
UID:78a67b91b64cf74fcf7d6d03720e127c
DTSTAMP:20260423T025330Z
SUMMARY:1 PM Workshop for Young Writers
DESCRIPTION:Jewish Federation & Foundation of Northeast Florida\nCommunity 
 Calendar\nhttps://jewishjacksonville.org/jewish-federation-of-jacksonville
 -calendar/1-pm-banned-book-club-writers-workshop-young-writers\n\nAcclaime
 d author and Youth Poet Laureate Jacqueline Woodson teaches and inspires
  selected educators and young writers in intimate\, small group settings.\
 n\n \n\nMs. Woodson’s work has earned the 2014 National Book Award\, Co
 retta Scott King Award\, Newbery Honor Award and other honors.\n\n \n\nYo
 ung writers interested in participating should request an application to 
 attend by writing toinfo@bannedjax.org.\n\n \n\nThe workshop for young wr
 iters begins at 1:00 p.m. on October 3 at T...
DTSTART;TZID=America/New_York:20151003T130000
DTEND;TZID=America/New_York:20151003T150000
END:VEVENT
END:VCALENDAR
