BEGIN:VCALENDAR
PRODID:-//eluceo/ical//2.0/EN
VERSION:2.0
CALSCALE:GREGORIAN
BEGIN:VEVENT
UID:76012f7138cafdca97f0691b298f19b9
DTSTAMP:20260424T033757Z
SUMMARY:09:00 International Lion of Judah Conference
DESCRIPTION:Jewish Federation & Foundation of Northeast Florida\nCommunity 
 Calendar\nhttps://jewishjacksonville.org/jewish-federation-of-jacksonville
 -calendar/0900-international-lion-of-judah-conference\n\nThe International
  Lion of Judah Conference will be from January 13th to the 15th\, from 09:
 00 am on the 13th of January\, to January 15th\, ending at 03:00 PM.
DTSTART;TZID=America/New_York:20190113T090000
DTEND;TZID=America/New_York:20190115T150000
END:VEVENT
END:VCALENDAR
