BEGIN:VCALENDAR
PRODID:-//eluceo/ical//2.0/EN
VERSION:2.0
CALSCALE:GREGORIAN
BEGIN:VEVENT
UID:31330d970e9dcdad92f3e5acc1d49ce6
DTSTAMP:20260422T173129Z
SUMMARY:Torah Academy Chanukah Party
DESCRIPTION:Jewish Federation & Foundation of Northeast Florida\nCommunity 
 agencies\, synagogues\, schools\nhttps://jewishjacksonville.org/jewish-com
 munity-information/torah-academy-chanukah-party\n\n4:30 TA Chanukah Party
DTSTART;TZID=America/New_York:20131205T163000
DTEND;TZID=America/New_York:20131205T183000
END:VEVENT
END:VCALENDAR
