BEGIN:VCALENDAR
PRODID:-//eluceo/ical//2.0/EN
VERSION:2.0
CALSCALE:GREGORIAN
BEGIN:VEVENT
UID:d80e2c436def0fe8dc8cc22ba3acdea5
DTSTAMP:20260421T193628Z
SUMMARY:12 p.m. Federation Board Meeting (Virtual)
DESCRIPTION:Jewish Federation & Foundation of Northeast Florida\nCommunity 
 agencies\, synagogues\, schools\nhttps://jewishjacksonville.org/jewish-com
 munity-information/thurs-federation-board-meeting-311625\n\nFederation Boa
 rd Meeting - VIRTUAL\n\nMay 27\, 2020\n\n12 p.m. - 1 p.m.
DTSTART;TZID=America/New_York:20200527T120000
DTEND;TZID=America/New_York:20200527T130000
END:VEVENT
END:VCALENDAR
