BEGIN:VCALENDAR
PRODID:-//eluceo/ical//2.0/EN
VERSION:2.0
CALSCALE:GREGORIAN
BEGIN:VEVENT
UID:e03ce3e2ccab48fe6e8c6dd71d6c7660
DTSTAMP:20260420T003013Z
SUMMARY:10AM Temple 'Sit and Get Fit'
DESCRIPTION:Jewish Federation & Foundation of Northeast Florida\nCommunity 
 agencies\, synagogues\, schools\nhttps://jewishjacksonville.org/jewish-com
 munity-information/temple-sit-and-get-fit-151381\n\nJoin the Temple for "
 Sit and Get Fit"!
DTSTART;TZID=America/New_York:20150706T100000
DTEND;TZID=America/New_York:20150706T120000
END:VEVENT
END:VCALENDAR
