BEGIN:VCALENDAR
PRODID:-//eluceo/ical//2.0/EN
VERSION:2.0
CALSCALE:GREGORIAN
BEGIN:VEVENT
UID:5d6ff44120b9e56ae10742895e1ae747
DTSTAMP:20260424T160255Z
SUMMARY:7PM JJC Talmud Class
DESCRIPTION:Jewish Federation & Foundation of Northeast Florida\nCommunity 
 agencies\, synagogues\, schools\nhttps://jewishjacksonville.org/jewish-com
 munity-information/talmud-class-jjc-76548\n\nJJC - A Talmud Study Class wi
 th Rabbi Lubliner
DTSTART;TZID=America/New_York:20140804T190000
DTEND;TZID=America/New_York:20140804T200000
END:VEVENT
END:VCALENDAR
