BEGIN:VCALENDAR
PRODID:-//eluceo/ical//2.0/EN
VERSION:2.0
CALSCALE:GREGORIAN
BEGIN:VEVENT
UID:1be5e2a1acaed76dbe9a53a82d8cd7a7
DTSTAMP:20260421T003551Z
SUMMARY:Sukkot
DESCRIPTION:Jewish Federation & Foundation of Northeast Florida\nCommunity 
 agencies\, synagogues\, schools\nhttps://jewishjacksonville.org/jewish-com
 munity-information/sukkot2016-175629\n\nFederation offices closed in obser
 vance of Sukkot
DTSTART;TZID=America/New_York:20161017T000000
DTEND;TZID=America/New_York:20161018T235500
END:VEVENT
END:VCALENDAR
