BEGIN:VCALENDAR
PRODID:-//eluceo/ical//2.0/EN
VERSION:2.0
CALSCALE:GREGORIAN
BEGIN:VEVENT
UID:944c7704e19bf1e7420c473d90a320ee
DTSTAMP:20260422T174830Z
SUMMARY:10AM JJC Sisterhood Membership Appreciation Event
DESCRIPTION:Jewish Federation & Foundation of Northeast Florida\nCommunity 
 agencies\, synagogues\, schools\nhttps://jewishjacksonville.org/jewish-com
 munity-information/sisterhood-membership-appreciation-event-80868\n\nJJC S
 isterhood Membership Appreciation Event
DTSTART;TZID=America/New_York:20141105T100000
DTEND;TZID=America/New_York:20141105T130000
END:VEVENT
END:VCALENDAR
