BEGIN:VCALENDAR
PRODID:-//eluceo/ical//2.0/EN
VERSION:2.0
CALSCALE:GREGORIAN
BEGIN:VEVENT
UID:3d5a04e72ba89708d3db1769c0ac0ca7
DTSTAMP:20260422T193519Z
SUMMARY:11:30AM JJC Sisterhood Closing Meeting
DESCRIPTION:Jewish Federation & Foundation of Northeast Florida\nCommunity 
 agencies\, synagogues\, schools\nhttps://jewishjacksonville.org/jewish-com
 munity-information/sisterhood-closing-meeting-80860\n\nJJC Sisterhood Clos
 ing Meeting
DTSTART;TZID=America/New_York:20150527T113000
DTEND;TZID=America/New_York:20150527T140000
END:VEVENT
END:VCALENDAR
