BEGIN:VCALENDAR
PRODID:-//eluceo/ical//2.0/EN
VERSION:2.0
CALSCALE:GREGORIAN
BEGIN:VEVENT
UID:325ad84ec8a1ec816e0f67593397272d
DTSTAMP:20260423T101319Z
SUMMARY:Simchat Torah
DESCRIPTION:Jewish Federation & Foundation of Northeast Florida\nCommunity 
 agencies\, synagogues\, schools\nhttps://jewishjacksonville.org/jewish-com
 munity-information/simchat-torah2016-175635\n\nFederation office closed in
  observance of Simchat Torah.
DTSTART;TZID=America/New_York:20161025T000000
DTEND;TZID=America/New_York:20161025T235500
END:VEVENT
END:VCALENDAR
