BEGIN:VCALENDAR
PRODID:-//eluceo/ical//2.0/EN
VERSION:2.0
CALSCALE:GREGORIAN
BEGIN:VEVENT
UID:8c53123d9297ea2a0bd63cbcecdc21c9
DTSTAMP:20260421T155813Z
SUMMARY:11:15AM Shalom Baby
DESCRIPTION:Jewish Federation & Foundation of Northeast Florida\nCommunity 
 agencies\, synagogues\, schools\nhttps://jewishjacksonville.org/jewish-com
 munity-information/shalom-baby-abc-83783\n\nDuBow Preschool program with m
 oms and babies
DTSTART;TZID=America/New_York:20140808T111500
DTEND;TZID=America/New_York:20140808T121500
END:VEVENT
END:VCALENDAR
