BEGIN:VCALENDAR
PRODID:-//eluceo/ical//2.0/EN
VERSION:2.0
CALSCALE:GREGORIAN
BEGIN:VEVENT
UID:9a70c71d673802d47e2e92988e3398c7
DTSTAMP:20260420T214755Z
SUMMARY:12PM JJC Shabbat Shira Shabbaton
DESCRIPTION:Jewish Federation & Foundation of Northeast Florida\nCommunity 
 agencies\, synagogues\, schools\nhttps://jewishjacksonville.org/jewish-com
 munity-information/shabbat-shira-shabbaton-83844\n\nAnnual JJC Shabbaton
DTSTART;TZID=America/New_York:20150130T120000
DTEND;TZID=America/New_York:20150201T030000
END:VEVENT
END:VCALENDAR
