BEGIN:VCALENDAR
PRODID:-//eluceo/ical//2.0/EN
VERSION:2.0
CALSCALE:GREGORIAN
BEGIN:VEVENT
UID:2967ed795b5a54d7a6f37dbfa129bb1d
DTSTAMP:20260424T023956Z
SUMMARY:5PM JJC Parshat Noah Shabbat
DESCRIPTION:Jewish Federation & Foundation of Northeast Florida\nCommunity 
 agencies\, synagogues\, schools\nhttps://jewishjacksonville.org/jewish-com
 munity-information/shabbat-parshat-noah-for-oct-83838\n\nShabbat Activitie
 s
DTSTART;TZID=America/New_York:20141024T170000
DTEND;TZID=America/New_York:20141024T210000
END:VEVENT
END:VCALENDAR
