BEGIN:VCALENDAR
PRODID:-//eluceo/ical//2.0/EN
VERSION:2.0
CALSCALE:GREGORIAN
BEGIN:VEVENT
UID:c339af42615becf54b12ff1d7079f952
DTSTAMP:20260420T194627Z
SUMMARY:9:15AM JJC Shabbat Mediation
DESCRIPTION:Jewish Federation & Foundation of Northeast Florida\nCommunity 
 agencies\, synagogues\, schools\nhttps://jewishjacksonville.org/jewish-com
 munity-information/shabbat-mediation-76528\n\nJJC Program 
DTSTART;TZID=America/New_York:20140808T091500
DTEND;TZID=America/New_York:20140808T101500
END:VEVENT
END:VCALENDAR
