BEGIN:VCALENDAR
PRODID:-//eluceo/ical//2.0/EN
VERSION:2.0
CALSCALE:GREGORIAN
BEGIN:VEVENT
UID:a08539eb2cd9e514c12e4849d6137c7a
DTSTAMP:20260422T021325Z
SUMMARY:7:00 p.m. Federation YESOD Meeting
DESCRIPTION:Jewish Federation & Foundation of Northeast Florida\nCommunity 
 agencies\, synagogues\, schools\nhttps://jewishjacksonville.org/jewish-com
 munity-information/sept-federation-yesod-meeting-317304\n\nFederation YESO
 D Meeting\n\nSeptember 18\, 2019\n\n7:00 - 8:30 p.m.\n\n 
DTSTART;TZID=America/New_York:20190918T190000
DTEND;TZID=America/New_York:20190918T203000
END:VEVENT
END:VCALENDAR
