BEGIN:VCALENDAR
PRODID:-//eluceo/ical//2.0/EN
VERSION:2.0
CALSCALE:GREGORIAN
BEGIN:VEVENT
UID:ffeffd33ad58552723b9771f4722b19b
DTSTAMP:20260422T021209Z
SUMMARY:River Garden Anniversary Day 2019
DESCRIPTION:Jewish Federation & Foundation of Northeast Florida\nCommunity 
 agencies\, synagogues\, schools\nhttps://jewishjacksonville.org/jewish-com
 munity-information/river-garden-anniversary-day-2019-266593\n\nRiver Garde
 n’s 73rd Anniversary Day celebration will be held Sunday\, March 31st\,
  from 3-6 p.m. \n\nThe entire community is invited to attend\, and it pr
 omises to be fun for the whole family. Upwards of 500 people\, ranging in 
 age from infants to seniors\, will spend time together\, enjoying all that
  this day has to offer. 
DTSTART;TZID=America/New_York:20190324T150000
DTEND;TZID=America/New_York:20190324T180000
END:VEVENT
END:VCALENDAR
