BEGIN:VCALENDAR
PRODID:-//eluceo/ical//2.0/EN
VERSION:2.0
CALSCALE:GREGORIAN
BEGIN:VEVENT
UID:bf1718333d7d1eb327c7c3fb79288f38
DTSTAMP:20260420T121138Z
SUMMARY:7AM JJC PTA Welcome Back Breakfast
DESCRIPTION:Jewish Federation & Foundation of Northeast Florida\nCommunity 
 agencies\, synagogues\, schools\nhttps://jewishjacksonville.org/jewish-com
 munity-information/pta-welcome-back-breakfast-84065\n\nPTA Breakfast for p
 arents of our preschool students
DTSTART;TZID=America/New_York:20140818T070000
DTEND;TZID=America/New_York:20140818T090000
END:VEVENT
END:VCALENDAR
