BEGIN:VCALENDAR
PRODID:-//eluceo/ical//2.0/EN
VERSION:2.0
CALSCALE:GREGORIAN
BEGIN:VEVENT
UID:b14451363cb64ce0d9d22797d4b91656
DTSTAMP:20260420T110614Z
SUMMARY:5PM JJC PTA School Spirit Night
DESCRIPTION:Jewish Federation & Foundation of Northeast Florida\nCommunity 
 agencies\, synagogues\, schools\nhttps://jewishjacksonville.org/jewish-com
 munity-information/pta-school-spirit-night-2-84326\n\nPTA School Spirit Ni
 ght
DTSTART;TZID=America/New_York:20150219T170000
DTEND;TZID=America/New_York:20150219T230000
END:VEVENT
END:VCALENDAR
