BEGIN:VCALENDAR
PRODID:-//eluceo/ical//2.0/EN
VERSION:2.0
CALSCALE:GREGORIAN
BEGIN:VEVENT
UID:4a87778da9364151b42bee4c30b645df
DTSTAMP:20260426T023216Z
SUMMARY:12AM JJC PTA Game On
DESCRIPTION:Jewish Federation & Foundation of Northeast Florida\nCommunity 
 agencies\, synagogues\, schools\nhttps://jewishjacksonville.org/jewish-com
 munity-information/pta-game-on-84329\n\nPTA Fun Day with Games
DTSTART;TZID=America/New_York:20141109T000000
DTEND;TZID=America/New_York:20141109T235500
END:VEVENT
END:VCALENDAR
