BEGIN:VCALENDAR
PRODID:-//eluceo/ical//2.0/EN
VERSION:2.0
CALSCALE:GREGORIAN
BEGIN:VEVENT
UID:1e1ed278934aab7cb421f3d219d55eca
DTSTAMP:20260421T041858Z
SUMMARY:PM Federation rGEN Break the Fast
DESCRIPTION:Jewish Federation & Foundation of Northeast Florida\nCommunity 
 agencies\, synagogues\, schools\nhttps://jewishjacksonville.org/jewish-com
 munity-information/pm-rgen-break-the-fast-311449\n\nFederation rGEN Break 
 the Fast Event\n\nOctober 9\, 2019\n\nExact Time TBD
DTSTART;TZID=America/New_York:20191009T000000
DTEND;TZID=America/New_York:20191009T000000
END:VEVENT
END:VCALENDAR
