BEGIN:VCALENDAR
PRODID:-//eluceo/ical//2.0/EN
VERSION:2.0
CALSCALE:GREGORIAN
BEGIN:VEVENT
UID:de887fb3d6c12a3109b170ff36a189fe
DTSTAMP:20260423T154337Z
SUMMARY:"Playing for Peace" Free Concert
DESCRIPTION:Jewish Federation & Foundation of Northeast Florida\nCommunity 
 agencies\, synagogues\, schools\nhttps://jewishjacksonville.org/jewish-com
 munity-information/playing-for-peace-free-concert\n\n"Playing for Peace" F
 ree Concert
DTSTART;TZID=America/New_York:20130414T123000
DTEND;TZID=America/New_York:20130414T143000
END:VEVENT
END:VCALENDAR
