BEGIN:VCALENDAR
PRODID:-//eluceo/ical//2.0/EN
VERSION:2.0
CALSCALE:GREGORIAN
BEGIN:VEVENT
UID:3d8ffb476ccd23b32d2bcafc373accf7
DTSTAMP:20260421T145051Z
SUMMARY:5PM JJC Parshat Noah Synagogue Activities
DESCRIPTION:Jewish Federation & Foundation of Northeast Florida\nCommunity 
 agencies\, synagogues\, schools\nhttps://jewishjacksonville.org/jewish-com
 munity-information/parshat-noah-synagogue-activities-83294\n\nParshat Noah
  Synagogue Activities
DTSTART;TZID=America/New_York:20141024T170000
DTEND;TZID=America/New_York:20141024T230000
END:VEVENT
END:VCALENDAR
