BEGIN:VCALENDAR
PRODID:-//eluceo/ical//2.0/EN
VERSION:2.0
CALSCALE:GREGORIAN
BEGIN:VEVENT
UID:6127e57a679059453a61906b8d6ec673
DTSTAMP:20260425T004131Z
SUMMARY:12AM Minyannaires Shabbat
DESCRIPTION:Jewish Federation & Foundation of Northeast Florida\nCommunity 
 agencies\, synagogues\, schools\nhttps://jewishjacksonville.org/jewish-com
 munity-information/minyannairesshabbat-76550\n\nCongregational Service hon
 oring our Minyannaires
DTSTART;TZID=America/New_York:20150314T000000
DTEND;TZID=America/New_York:20150314T235959
END:VEVENT
END:VCALENDAR
