BEGIN:VCALENDAR
PRODID:-//eluceo/ical//2.0/EN
VERSION:2.0
CALSCALE:GREGORIAN
BEGIN:VEVENT
UID:ef12fcc1325c445895db19b509359fde
DTSTAMP:20260423T224138Z
SUMMARY:11:30AM JJC Sisterhood Meeting and Luncheon
DESCRIPTION:Jewish Federation & Foundation of Northeast Florida\nCommunity 
 agencies\, synagogues\, schools\nhttps://jewishjacksonville.org/jewish-com
 munity-information/meeting-luncheon-sisterhood-80864\n\nSisterhood Meeting
  and Luncheon
DTSTART;TZID=America/New_York:20150422T113000
DTEND;TZID=America/New_York:20150422T140000
END:VEVENT
END:VCALENDAR
