BEGIN:VCALENDAR
PRODID:-//eluceo/ical//2.0/EN
VERSION:2.0
CALSCALE:GREGORIAN
BEGIN:VEVENT
UID:6f1071344723c0c4a628fce41a91d59c
DTSTAMP:20260422T103718Z
SUMMARY:12PM Federation Lion of Judah Lunch (Virtual)
DESCRIPTION:Jewish Federation & Foundation of Northeast Florida\nCommunity 
 agencies\, synagogues\, schools\nhttps://jewishjacksonville.org/jewish-com
 munity-information/lion-of-judah-lunch-317198\n\nFederation Lion of Judah 
 Lunch - VIRTUAL\n\nNEW DATE: May 18\, 2020\n\n12:00 - 2:00 PM\n\n 
DTSTART;TZID=America/New_York:20200518T120000
DTEND;TZID=America/New_York:20200518T140000
END:VEVENT
END:VCALENDAR
