BEGIN:VCALENDAR
PRODID:-//eluceo/ical//2.0/EN
VERSION:2.0
CALSCALE:GREGORIAN
BEGIN:VEVENT
UID:93a3d56ab4ed6e3222466ef3beaa7758
DTSTAMP:20260420T194431Z
SUMMARY:12AM JJC Kadima Convention
DESCRIPTION:Jewish Federation & Foundation of Northeast Florida\nCommunity 
 agencies\, synagogues\, schools\nhttps://jewishjacksonville.org/jewish-com
 munity-information/kadima-convention-84129\n\nKadima Convention
DTSTART;TZID=America/New_York:20141121T000000
DTEND;TZID=America/New_York:20141123T170000
END:VEVENT
END:VCALENDAR
