BEGIN:VCALENDAR
PRODID:-//eluceo/ical//2.0/EN
VERSION:2.0
CALSCALE:GREGORIAN
BEGIN:VEVENT
UID:9840679cfd1623a36cfe9227fc6d3156
DTSTAMP:20260425T163112Z
SUMMARY:Jewish Community Day at the Cummer Museum of Art and Gardens
DESCRIPTION:Jewish Federation & Foundation of Northeast Florida\nCommunity 
 agencies\, synagogues\, schools\nhttps://jewishjacksonville.org/jewish-com
 munity-information/jewish-community-day-308608\n\nJewish Community Day at 
 the Cummer Museum of Art and Gardens\n\nAugust 25\, 2019\n\n12-4 pm.
DTSTART;TZID=America/New_York:20190825T120000
DTEND;TZID=America/New_York:20190825T160000
END:VEVENT
END:VCALENDAR
