BEGIN:VCALENDAR
PRODID:-//eluceo/ical//2.0/EN
VERSION:2.0
CALSCALE:GREGORIAN
BEGIN:VEVENT
UID:9ac9c6aef404e4e37d382f01fd62b9f5
DTSTAMP:20260424T043512Z
SUMMARY:JCA\, Federation and Foundatio closed for Pesach
DESCRIPTION:Jewish Federation & Foundation of Northeast Florida\nCommunity 
 agencies\, synagogues\, schools\nhttps://jewishjacksonville.org/jewish-com
 munity-information/jca-federation-and-foundatio-closed-for-pesach\n\nJCA\,
  Federation and Foundatio closed for Pesach
DTSTART;TZID=America/New_York:20140421T000000
DTEND;TZID=America/New_York:20140421T235900
END:VEVENT
END:VCALENDAR
